BEGIN:VCALENDAR
VERSION:2.0
PRODID:-//City of Mebane, NC - ECPv6.15.20//NONSGML v1.0//EN
CALSCALE:GREGORIAN
METHOD:PUBLISH
X-ORIGINAL-URL:https://positivelymebane.com
X-WR-CALDESC:Events for City of Mebane, NC
REFRESH-INTERVAL;VALUE=DURATION:PT1H
X-Robots-Tag:noindex
X-PUBLISHED-TTL:PT1H
BEGIN:VTIMEZONE
TZID:America/New_York
BEGIN:DAYLIGHT
TZOFFSETFROM:-0500
TZOFFSETTO:-0400
TZNAME:EDT
DTSTART:20240310T070000
END:DAYLIGHT
BEGIN:STANDARD
TZOFFSETFROM:-0400
TZOFFSETTO:-0500
TZNAME:EST
DTSTART:20241103T060000
END:STANDARD
BEGIN:DAYLIGHT
TZOFFSETFROM:-0500
TZOFFSETTO:-0400
TZNAME:EDT
DTSTART:20250309T070000
END:DAYLIGHT
BEGIN:STANDARD
TZOFFSETFROM:-0400
TZOFFSETTO:-0500
TZNAME:EST
DTSTART:20251102T060000
END:STANDARD
BEGIN:DAYLIGHT
TZOFFSETFROM:-0500
TZOFFSETTO:-0400
TZNAME:EDT
DTSTART:20260308T070000
END:DAYLIGHT
BEGIN:STANDARD
TZOFFSETFROM:-0400
TZOFFSETTO:-0500
TZNAME:EST
DTSTART:20261101T060000
END:STANDARD
END:VTIMEZONE
BEGIN:VEVENT
DTSTART;VALUE=DATE:20251107
DTEND;VALUE=DATE:20251220
DTSTAMP:20260422T113610
CREATED:20251029T212014Z
LAST-MODIFIED:20251029T215414Z
UID:10005350-1762473600-1766188799@positivelymebane.com
SUMMARY:Nutcracker Stroll
DESCRIPTION: \nThis holiday season\, downtown Mebane will transform into a festive winter wonderland with the Nutcracker Stroll\, a unique celebration that brings holiday cheer\, fosters community connections\, and creates cherished holiday traditions for families to enjoy year after year. \n\n\nWhat is the Nutcracker Stroll?\nThe Nutcracker Stroll is a six-week-long holiday experience featuring beautiful Nutcrackers displayed throughout downtown\, each sponsored by businesses like yours.  This magical experience will delight families\, children\, and adults alike\, drawing people downtown to celebrate the season and enjoy the beautifully decorated storefronts\, festive activities\, and charming Nutcracker displays. \n \nVisit https://www.visitdowntownmebane.com/nutcrackerstroll to learn more about sponsorship opportunities for this event!
URL:https://positivelymebane.com/event/nutcracker-stroll
LOCATION:Downtown Mebane\, 111 West Clay Street\, Mebane\, NC\, 27302\, United States
CATEGORIES:Community Events,Downtown Mebane Events
ORGANIZER;CN="Downtown Mebane Development Corporation":MAILTO:info@visitdowntownmebane.com
END:VEVENT
BEGIN:VEVENT
DTSTART;TZID=America/New_York:20251115T083000
DTEND;TZID=America/New_York:20251115T120000
DTSTAMP:20260422T113610
CREATED:20251029T203727Z
LAST-MODIFIED:20251029T203844Z
UID:10003064-1763195400-1763208000@positivelymebane.com
SUMMARY:Downtown Mebane Farmers Market
DESCRIPTION:The 2025 Downtown Farmers Market season will begin on April 5 and wrap up on November 15. \nIt will be located at 102 E. Ruffin Street in downtown Mebane\, beside Downtown Pocket Park and Dollar General. It will take place each Saturday from 8:30 a.m. to 12:00 p.m. Join us on the third Saturday of each month for our Power of Produce Healthy Kids Club—the Kids Club is free to participate in for children 5-12 years old. The market will not take place on April 26 and October 4. \nIf you are interested in being a vendor for the 2025 season\, apply here! \nIf you have any questions regarding the Downtown Mebane Farmers Market\, please contact Lindsey Chinni\, Market Coordinator\, at farmersmarket@cityofmebane.com.
URL:https://positivelymebane.com/event/downtown-mebane-farmers-market-2-2/2025-11-15
LOCATION:Downtown Mebane Pocket Park\, 102 East Ruffin Street\, Mebane\, 27302\, United States
CATEGORIES:Community Events
END:VEVENT
END:VCALENDAR