BEGIN:VCALENDAR
VERSION:2.0
PRODID:-//City of Mebane, NC - ECPv6.15.20//NONSGML v1.0//EN
CALSCALE:GREGORIAN
METHOD:PUBLISH
X-WR-CALNAME:City of Mebane, NC
X-ORIGINAL-URL:https://positivelymebane.com
X-WR-CALDESC:Events for City of Mebane, NC
REFRESH-INTERVAL;VALUE=DURATION:PT1H
X-Robots-Tag:noindex
X-PUBLISHED-TTL:PT1H
BEGIN:VTIMEZONE
TZID:America/New_York
BEGIN:DAYLIGHT
TZOFFSETFROM:-0500
TZOFFSETTO:-0400
TZNAME:EDT
DTSTART:20240310T070000
END:DAYLIGHT
BEGIN:STANDARD
TZOFFSETFROM:-0400
TZOFFSETTO:-0500
TZNAME:EST
DTSTART:20241103T060000
END:STANDARD
BEGIN:DAYLIGHT
TZOFFSETFROM:-0500
TZOFFSETTO:-0400
TZNAME:EDT
DTSTART:20250309T070000
END:DAYLIGHT
BEGIN:STANDARD
TZOFFSETFROM:-0400
TZOFFSETTO:-0500
TZNAME:EST
DTSTART:20251102T060000
END:STANDARD
BEGIN:DAYLIGHT
TZOFFSETFROM:-0500
TZOFFSETTO:-0400
TZNAME:EDT
DTSTART:20260308T070000
END:DAYLIGHT
BEGIN:STANDARD
TZOFFSETFROM:-0400
TZOFFSETTO:-0500
TZNAME:EST
DTSTART:20261101T060000
END:STANDARD
END:VTIMEZONE
BEGIN:VEVENT
DTSTART;TZID=America/New_York:20250927T080000
DTEND;TZID=America/New_York:20250927T200000
DTSTAMP:20260421T193525
CREATED:20250918T192543Z
LAST-MODIFIED:20250918T193448Z
UID:10005271-1758960000-1759003200@positivelymebane.com
SUMMARY:Alamance Adventure Race
DESCRIPTION: \nGet ready for 12 hours of fun and epic challenges! The Alamance Adventure Race is a county-wide scavenger hunt for all ages. Starting at 7:30 a.m.\, teams will gather at Bill Cooke Park in Graham\, and at 8 a.m.\, they will launch out to all corners of the county to find challenges and collect as many points as possible.  \nTeams will utilize the Eventzee app on their smartphones to make it all happen (just one team member needs to have the app installed). With more challenges than any team can finish\, you will have to capture moments\, find items\, and complete wild activities to get as many points as possible! Teams will visit parks\, businesses\, open areas\, and more! If it's in Alamance County\, you're going there! Each challenge is assigned points based on its type\, difficulty level\, or location. Make no mistake\, to win is hard work; having an absolute blast all day with your family and friends is easy. Prizes will be given to the top 3 finishing teams with the most points! \n \nThe Alamance Adventure Race is a joint effort of Recreation and Parks Departments across the county:\nBurlington\, Elon\, Gibsonville\, Graham\, Green Level\, and Mebane! \n\n**We will start the morning with a kick-off party at Bill Cooke Park. The kick-off event is where you will start the day and get any last minute info for the event. If you can't make the start make sure you let Jason know (contact below). \n**Earn points before the event starts! If you get others excited and registered for the event\, you will earn 50 points per team. NOTE: They will need to provide your name or team name when registering for this to count. \nSo what are you waiting for? Get your team together and get ready for the best 12 hours of fun you've had all year! \n**Only one person on a team needs to register\, not each team member. Cost is per team.\nRegistration Cost: $60 \n \nAll Prizes are based on 4-5 person teams but there is no limit to how many people you can have on a team but you will need to stay together so plan transportation accordingly. Only one team member can have the game app active on their phone. \nIf you have any questions\, contact\nJason Witherspoon at jason.witherspoon@alamancecountync.gov.
URL:https://positivelymebane.com/event/alamance-adventure-race
LOCATION:Bill Cooke Park\, 1010 Townbranch Road\, Graham\, NC\, 27253\, United States
CATEGORIES:Community Events
ORGANIZER;CN="Alamance Parks & Cedarock Park":MAILTO:recinfo@alamancecountync.gov
END:VEVENT
END:VCALENDAR