BEGIN:VCALENDAR
VERSION:2.0
PRODID:-//City of Mebane, NC - ECPv6.15.20//NONSGML v1.0//EN
CALSCALE:GREGORIAN
METHOD:PUBLISH
X-ORIGINAL-URL:https://positivelymebane.com
X-WR-CALDESC:Events for City of Mebane, NC
REFRESH-INTERVAL;VALUE=DURATION:PT1H
X-Robots-Tag:noindex
X-PUBLISHED-TTL:PT1H
BEGIN:VTIMEZONE
TZID:America/New_York
BEGIN:DAYLIGHT
TZOFFSETFROM:-0500
TZOFFSETTO:-0400
TZNAME:EDT
DTSTART:20240310T070000
END:DAYLIGHT
BEGIN:STANDARD
TZOFFSETFROM:-0400
TZOFFSETTO:-0500
TZNAME:EST
DTSTART:20241103T060000
END:STANDARD
BEGIN:DAYLIGHT
TZOFFSETFROM:-0500
TZOFFSETTO:-0400
TZNAME:EDT
DTSTART:20250309T070000
END:DAYLIGHT
BEGIN:STANDARD
TZOFFSETFROM:-0400
TZOFFSETTO:-0500
TZNAME:EST
DTSTART:20251102T060000
END:STANDARD
BEGIN:DAYLIGHT
TZOFFSETFROM:-0500
TZOFFSETTO:-0400
TZNAME:EDT
DTSTART:20260308T070000
END:DAYLIGHT
BEGIN:STANDARD
TZOFFSETFROM:-0400
TZOFFSETTO:-0500
TZNAME:EST
DTSTART:20261101T060000
END:STANDARD
END:VTIMEZONE
BEGIN:VEVENT
DTSTART;VALUE=DATE:20251107
DTEND;VALUE=DATE:20251220
DTSTAMP:20260421T053541
CREATED:20251029T212014Z
LAST-MODIFIED:20251029T215414Z
UID:10005350-1762473600-1766188799@positivelymebane.com
SUMMARY:Nutcracker Stroll
DESCRIPTION: \nThis holiday season\, downtown Mebane will transform into a festive winter wonderland with the Nutcracker Stroll\, a unique celebration that brings holiday cheer\, fosters community connections\, and creates cherished holiday traditions for families to enjoy year after year. \n\n\nWhat is the Nutcracker Stroll?\nThe Nutcracker Stroll is a six-week-long holiday experience featuring beautiful Nutcrackers displayed throughout downtown\, each sponsored by businesses like yours.  This magical experience will delight families\, children\, and adults alike\, drawing people downtown to celebrate the season and enjoy the beautifully decorated storefronts\, festive activities\, and charming Nutcracker displays. \n \nVisit https://www.visitdowntownmebane.com/nutcrackerstroll to learn more about sponsorship opportunities for this event!
URL:https://positivelymebane.com/event/nutcracker-stroll
LOCATION:Downtown Mebane\, 111 West Clay Street\, Mebane\, NC\, 27302\, United States
CATEGORIES:Community Events,Downtown Mebane Events
ORGANIZER;CN="Downtown Mebane Development Corporation":MAILTO:info@visitdowntownmebane.com
END:VEVENT
BEGIN:VEVENT
DTSTART;TZID=America/New_York:20251208T080000
DTEND;TZID=America/New_York:20251208T120000
DTSTAMP:20260421T053541
CREATED:20250204T183620Z
LAST-MODIFIED:20250212T224731Z
UID:10001594-1765180800-1765195200@positivelymebane.com
SUMMARY:Senior Programming and Activities: Monday
DESCRIPTION:The Mebane Recreation and Parks Department is proud to present Senior Programming and activities with special thanks to our community partners! Alongside the yearly programs\, the Rec is introducing its new program\, Senior Connect\, offering seniors the opportunity to socialize\, connect\, and be active with other seniors through self-guided activities and open social hours! \n \nHere is a list of all Monday activities\, times\, and locations: \nGym Walking - 8 a.m. to noon in the MACC gym. \nCornhole and Ping Pong - 8 a.m. to noon in the MACC gym. \nBoard Games\, Card Games\, Checkers\, Dominos\, and Chess - 8 a.m. to noon in the MACC Community Room. \n 
URL:https://positivelymebane.com/event/senior-programming-and-activities-monday/2025-12-08
LOCATION:Mebane Arts & Community Center\, 633 Corregidor Street\, Mebane\, NC\, 27302\, United States
CATEGORIES:Community Events
ORGANIZER;CN="Mebane Recreation and Parks Department":MAILTO:adavis@cityofmebane.com
END:VEVENT
BEGIN:VEVENT
DTSTART;TZID=America/New_York:20251208T163000
DTEND;TZID=America/New_York:20251208T193000
DTSTAMP:20260421T053541
CREATED:20251209T004056Z
LAST-MODIFIED:20251209T005014Z
UID:10005416-1765211400-1765222200@positivelymebane.com
SUMMARY:Always Christmas
DESCRIPTION:Looking for a fun holiday activity for the family?🎅⛄\n\n\n\n\n\n\n\nCheck out the 𝐀𝐧𝐧𝐮𝐚𝐥 𝐂𝐨𝐫𝐛𝐞𝐭𝐭 𝐂𝐡𝐫𝐢𝐬𝐭𝐦𝐚𝐬 𝐎𝐩𝐞𝐧 𝐇𝐨𝐮𝐬𝐞 "𝐀𝐥𝐰𝐚𝐲𝐬 𝐂𝐡𝐫𝐢𝐬𝐭𝐦𝐚𝐬" indoor holiday tree display! 🎄✨\n\n\n\n\n\n\n\n\nThe event\, hosted by Donna Corbett\, began in the Corbett family home in the West End community of Mebane. Starting in the early 1990s\, Corbett's parents\, Mary and Ben Corbett\, held an annual Christmas open house for friends\, family\, neighbors\, and church members at their home. Corbett is hosting this event this year in honor of her parents and invites everyone to come out and enjoy the magic her parents always created during this special time of year!
URL:https://positivelymebane.com/event/always-christmas/2025-12-08
LOCATION:The White House on Washington\, 7920 E. Washington Street\, Mebane\, NC\, 27302\, United States
CATEGORIES:Community Events
ORGANIZER;CN="Dr. Donna Corbett":MAILTO:agetiquette@bellsouth.net
END:VEVENT
BEGIN:VEVENT
DTSTART;TZID=America/New_York:20251208T180000
DTEND;TZID=America/New_York:20251208T200000
DTSTAMP:20260421T053541
CREATED:20250604T202628Z
LAST-MODIFIED:20260304T205522Z
UID:10005405-1765216800-1765224000@positivelymebane.com
SUMMARY:Mebane City Council Meeting
DESCRIPTION: \nFor details on the meeting\, please view our council page.
URL:https://positivelymebane.com/event/mebane-city-council-meeting/2025-12-08
LOCATION:Glendel Stephenson Municipal Building\, 106 E. Washington Street\, Mebane\, NC\, 27302\, United States
CATEGORIES:City Council Meetings
END:VEVENT
BEGIN:VEVENT
DTSTART;TZID=America/New_York:20251209T080000
DTEND;TZID=America/New_York:20251209T150000
DTSTAMP:20260421T053541
CREATED:20250204T184213Z
LAST-MODIFIED:20251013T213137Z
UID:10001856-1765267200-1765292400@positivelymebane.com
SUMMARY:Senior Programming and Activities: Tuesday
DESCRIPTION:The Mebane Recreation and Parks Department is proud to present Senior Programming and activities with special thanks to our community partners! Alongside the yearly programs\, the Rec is introducing its new program\, Senior Connect\, offering seniors the opportunity to socialize\, connect\, and be active with other seniors through self-guided activities and open social hours! \n \nHere is a list of all Tuesday activities\, times\, and locations: \nGym Walking - 8 a.m. to noon in the MACC gym. \nCornhole and Ping Pong - 8 a.m. to noon in the MACC gym. \nPickleball - 1 p.m. to 3 p.m. in the MACC gym. \nColoring\, Fiber Arts\, and Self-Guided Reading - 8 a.m. to noon in the MACC Community Room.
URL:https://positivelymebane.com/event/senior-programming-and-activities-tuesday/2025-12-09
LOCATION:Mebane Arts & Community Center\, 633 Corregidor Street\, Mebane\, NC\, 27302\, United States
CATEGORIES:Community Events
ORGANIZER;CN="Mebane Recreation and Parks Department":MAILTO:adavis@cityofmebane.com
END:VEVENT
BEGIN:VEVENT
DTSTART;TZID=America/New_York:20251209T163000
DTEND;TZID=America/New_York:20251209T193000
DTSTAMP:20260421T053541
CREATED:20251209T004056Z
LAST-MODIFIED:20251209T005014Z
UID:10005417-1765297800-1765308600@positivelymebane.com
SUMMARY:Always Christmas
DESCRIPTION:Looking for a fun holiday activity for the family?🎅⛄\n\n\n\n\n\n\n\nCheck out the 𝐀𝐧𝐧𝐮𝐚𝐥 𝐂𝐨𝐫𝐛𝐞𝐭𝐭 𝐂𝐡𝐫𝐢𝐬𝐭𝐦𝐚𝐬 𝐎𝐩𝐞𝐧 𝐇𝐨𝐮𝐬𝐞 "𝐀𝐥𝐰𝐚𝐲𝐬 𝐂𝐡𝐫𝐢𝐬𝐭𝐦𝐚𝐬" indoor holiday tree display! 🎄✨\n\n\n\n\n\n\n\n\nThe event\, hosted by Donna Corbett\, began in the Corbett family home in the West End community of Mebane. Starting in the early 1990s\, Corbett's parents\, Mary and Ben Corbett\, held an annual Christmas open house for friends\, family\, neighbors\, and church members at their home. Corbett is hosting this event this year in honor of her parents and invites everyone to come out and enjoy the magic her parents always created during this special time of year!
URL:https://positivelymebane.com/event/always-christmas/2025-12-09
LOCATION:The White House on Washington\, 7920 E. Washington Street\, Mebane\, NC\, 27302\, United States
CATEGORIES:Community Events
ORGANIZER;CN="Dr. Donna Corbett":MAILTO:agetiquette@bellsouth.net
END:VEVENT
BEGIN:VEVENT
DTSTART;TZID=America/New_York:20251210T080000
DTEND;TZID=America/New_York:20251210T120000
DTSTAMP:20260421T053541
CREATED:20250212T223426Z
LAST-MODIFIED:20250217T200721Z
UID:10002117-1765353600-1765368000@positivelymebane.com
SUMMARY:Senior Programming and Activities: Wednesday
DESCRIPTION:The Mebane Recreation and Parks Department is proud to present Senior Programming and activities with special thanks to our community partners! Alongside the yearly programs\, the Rec is introducing its new program\, Senior Connect\, offering seniors the opportunity to socialize\, connect\, and be active with other seniors through self-guided activities and open social hours! \nHere is a list of all Wednesday activities\, times\, and locations: \nGym Walking - 8 a.m. to noon in the MACC gym. \nCornhole and Ping Pong - 8 a.m. to noon in the MACC gym. \nBoard Games\, Card Games\, Checkers\, Dominos\, and Chess - 8 a.m. to noon in the MACC Community Room. \n 
URL:https://positivelymebane.com/event/senior-programming-and-activities-wednesday-2/2025-12-10
LOCATION:Mebane Arts & Community Center\, 633 Corregidor Street\, Mebane\, NC\, 27302\, United States
CATEGORIES:Community Events
ORGANIZER;CN="Mebane Recreation and Parks Department":MAILTO:adavis@cityofmebane.com
END:VEVENT
BEGIN:VEVENT
DTSTART;TZID=America/New_York:20251210T120000
DTEND;TZID=America/New_York:20251210T130000
DTSTAMP:20260421T053541
CREATED:20240507T185218Z
LAST-MODIFIED:20240507T185218Z
UID:10001338-1765368000-1765371600@positivelymebane.com
SUMMARY:Local Historians Hold Court
DESCRIPTION: \nMaybe you're new to Mebane and you have questions about Mebane's past. Maybe you've lived here all your life and you have things to share. If it's about Mebane's history\, we would like to have you join us. See you the second Wednesday of every month in the Main Gallery.
URL:https://positivelymebane.com/event/local-historians-hold-court/2025-12-10
LOCATION:Mebane Historical Museum\, 209 W. Jackson St.\, Mebane\, 27302\, United States
CATEGORIES:Mebane Historical Museum Events
END:VEVENT
BEGIN:VEVENT
DTSTART;TZID=America/New_York:20251211T080000
DTEND;TZID=America/New_York:20251211T150000
DTSTAMP:20260421T053541
CREATED:20250211T215640Z
LAST-MODIFIED:20250604T205457Z
UID:10002378-1765440000-1765465200@positivelymebane.com
SUMMARY:Senior Programming and Activities: Thursday
DESCRIPTION:The Mebane Recreation and Parks Department is proud to present Senior Programming and activities with special thanks to our community partners! Alongside the yearly programs\, the Rec is introducing its new program\, Senior Connect\, offering seniors the opportunity to socialize\, connect\, and be active with other seniors through self-guided activities and open social hours! \n\nHere is a list of all Thursday activities\, times\, and locations: \nGym Walking - 8 a.m. to noon in the MACC gym. \nCornhole and Ping Pong - 8 a.m. to noon in the MACC gym. \nPickleball - 1 p.m. to 3 p.m. in the MACC gym. \nColoring\, Fiber Arts\, and Self-Guided Reading - 8 a.m. to noon in the MACC Community Room. \n 
URL:https://positivelymebane.com/event/senior-programming-and-activities-thursday-2/2025-12-11
LOCATION:Mebane Arts & Community Center\, 633 Corregidor Street\, Mebane\, NC\, 27302\, United States
CATEGORIES:Community Events
ORGANIZER;CN="Mebane Recreation and Parks Department":MAILTO:adavis@cityofmebane.com
END:VEVENT
BEGIN:VEVENT
DTSTART;TZID=America/New_York:20251211T163000
DTEND;TZID=America/New_York:20251211T193000
DTSTAMP:20260421T053541
CREATED:20251209T004056Z
LAST-MODIFIED:20251209T005014Z
UID:10005418-1765470600-1765481400@positivelymebane.com
SUMMARY:Always Christmas
DESCRIPTION:Looking for a fun holiday activity for the family?🎅⛄\n\n\n\n\n\n\n\nCheck out the 𝐀𝐧𝐧𝐮𝐚𝐥 𝐂𝐨𝐫𝐛𝐞𝐭𝐭 𝐂𝐡𝐫𝐢𝐬𝐭𝐦𝐚𝐬 𝐎𝐩𝐞𝐧 𝐇𝐨𝐮𝐬𝐞 "𝐀𝐥𝐰𝐚𝐲𝐬 𝐂𝐡𝐫𝐢𝐬𝐭𝐦𝐚𝐬" indoor holiday tree display! 🎄✨\n\n\n\n\n\n\n\n\nThe event\, hosted by Donna Corbett\, began in the Corbett family home in the West End community of Mebane. Starting in the early 1990s\, Corbett's parents\, Mary and Ben Corbett\, held an annual Christmas open house for friends\, family\, neighbors\, and church members at their home. Corbett is hosting this event this year in honor of her parents and invites everyone to come out and enjoy the magic her parents always created during this special time of year!
URL:https://positivelymebane.com/event/always-christmas/2025-12-11
LOCATION:The White House on Washington\, 7920 E. Washington Street\, Mebane\, NC\, 27302\, United States
CATEGORIES:Community Events
ORGANIZER;CN="Dr. Donna Corbett":MAILTO:agetiquette@bellsouth.net
END:VEVENT
BEGIN:VEVENT
DTSTART;TZID=America/New_York:20251211T173000
DTEND;TZID=America/New_York:20251211T190000
DTSTAMP:20260421T053541
CREATED:20251209T005740Z
LAST-MODIFIED:20251209T010250Z
UID:10005432-1765474200-1765479600@positivelymebane.com
SUMMARY:2025 Makers of Modern Mebane
DESCRIPTION:The Mebane Historical Museum is hosting its 2025 Makers of Modern Mebane ceremony on Thursday\, December 11\, 2025\, at 5:30 p.m. in the lower-level meeting room of the museum\, located at 209 W. Jackson Street. \nPlease join them in honoring this year's inductees: Dr. Deanna Jones and the Wilsons\, Brenda & Omega. \nThe program begins promptly at 5:30 p.m.\, and refreshments will be served afterward. We look forward to seeing you there as we celebrate the individuals who have helped make Mebane the city it is today!
URL:https://positivelymebane.com/event/2025-makers-of-modern-mebane
LOCATION:Mebane Historical Museum\, 209 W. Jackson St.\, Mebane\, 27302\, United States
CATEGORIES:Community Events,Mebane Historical Museum Events
END:VEVENT
BEGIN:VEVENT
DTSTART;TZID=America/New_York:20251212T080000
DTEND;TZID=America/New_York:20251212T120000
DTSTAMP:20260421T053541
CREATED:20250204T185731Z
LAST-MODIFIED:20250604T205822Z
UID:10002639-1765526400-1765540800@positivelymebane.com
SUMMARY:Senior Programming and Activities: Friday
DESCRIPTION:The Mebane Recreation and Parks Department is proud to present Senior Programming and activities with special thanks to our community partners! Alongside the yearly programs\, the Rec is introducing its new program\, Senior Connect\, offering seniors the opportunity to socialize\, connect\, and be active with other seniors through self-guided activities and open social hours! \n\nHere is a list of all Friday activities\, times\, and locations: \nGym Walking - 8 a.m. to noon in the MACC gym. \nCornhole and Ping Pong - 8 a.m. to noon in the MACC gym.
URL:https://positivelymebane.com/event/senior-programming-and-activities-friday/2025-12-12
LOCATION:Mebane Arts & Community Center\, 633 Corregidor Street\, Mebane\, NC\, 27302\, United States
CATEGORIES:Community Events
ORGANIZER;CN="Mebane Recreation and Parks Department":MAILTO:adavis@cityofmebane.com
END:VEVENT
BEGIN:VEVENT
DTSTART;TZID=America/New_York:20251212T163000
DTEND;TZID=America/New_York:20251212T193000
DTSTAMP:20260421T053541
CREATED:20251209T004056Z
LAST-MODIFIED:20251209T005014Z
UID:10005419-1765557000-1765567800@positivelymebane.com
SUMMARY:Always Christmas
DESCRIPTION:Looking for a fun holiday activity for the family?🎅⛄\n\n\n\n\n\n\n\nCheck out the 𝐀𝐧𝐧𝐮𝐚𝐥 𝐂𝐨𝐫𝐛𝐞𝐭𝐭 𝐂𝐡𝐫𝐢𝐬𝐭𝐦𝐚𝐬 𝐎𝐩𝐞𝐧 𝐇𝐨𝐮𝐬𝐞 "𝐀𝐥𝐰𝐚𝐲𝐬 𝐂𝐡𝐫𝐢𝐬𝐭𝐦𝐚𝐬" indoor holiday tree display! 🎄✨\n\n\n\n\n\n\n\n\nThe event\, hosted by Donna Corbett\, began in the Corbett family home in the West End community of Mebane. Starting in the early 1990s\, Corbett's parents\, Mary and Ben Corbett\, held an annual Christmas open house for friends\, family\, neighbors\, and church members at their home. Corbett is hosting this event this year in honor of her parents and invites everyone to come out and enjoy the magic her parents always created during this special time of year!
URL:https://positivelymebane.com/event/always-christmas/2025-12-12
LOCATION:The White House on Washington\, 7920 E. Washington Street\, Mebane\, NC\, 27302\, United States
CATEGORIES:Community Events
ORGANIZER;CN="Dr. Donna Corbett":MAILTO:agetiquette@bellsouth.net
END:VEVENT
BEGIN:VEVENT
DTSTART;TZID=America/New_York:20251213T100000
DTEND;TZID=America/New_York:20251213T170000
DTSTAMP:20260421T053541
CREATED:20251124T232547Z
LAST-MODIFIED:20251124T232712Z
UID:10005413-1765620000-1765645200@positivelymebane.com
SUMMARY:Dashing Through Downtown
DESCRIPTION: \nStep into the holiday magic at Downtown Mebane’s Dashing Through Downtown event! 🎄✨ \nMebane is sparkling with lights\, the sound of festive carolers fills the air\, and local shops are brimming with one-of-a-kind holiday finds! It’s more than just a shopping trip—it’s a celebration of our community\, a time to swap stories\, sip hot cocoa\, and create memories you’ll treasure. ☕️ ♥️ \n \nHere’s what to remember for the best holiday experience: \n\n\n 	DO BRING YOUR BESTIE\n 	DO BRING YOUR HOLIDAY CHEER\n 	GET YOUR WISHLIST READY\n 	VISIT ALL YOUR FAVORITE DOWNTOWN SHOPS\n\n \nIndulge in festive cocktails\, seasonal treats\, and special holiday offers at select shops. Whether you’re filling Santa’s sleigh or treating yourself to a little something\, our downtown businesses will be there to make it the merriest day of the season!
URL:https://positivelymebane.com/event/dashing-through-downtown
LOCATION:Downtown Mebane\, 111 West Clay Street\, Mebane\, NC\, 27302\, United States
CATEGORIES:Community Events,Downtown Mebane Events
ORGANIZER;CN="Downtown Businesses":MAILTO:khunter@cityofmebane.com
END:VEVENT
BEGIN:VEVENT
DTSTART;TZID=America/New_York:20251213T110000
DTEND;TZID=America/New_York:20251213T140000
DTSTAMP:20260421T053541
CREATED:20251119T201146Z
LAST-MODIFIED:20251119T201220Z
UID:10005395-1765623600-1765634400@positivelymebane.com
SUMMARY:It's Snowing in Mebane
DESCRIPTION: \n\n \n\n \n❄️ It's Snowing in Mebane is back! ❄️ \n \nJoin us at the Wooden Nickel parking lot for a free holiday photo opportunity. Be sure to dress for the weather because it might be SNOWING! ❄️✨
URL:https://positivelymebane.com/event/its-snowing-in-mebane-5
LOCATION:Wooden Nickel Parking Lot\, 109 W Clay Street\, Mebane\, NC\, 27302\, United States
CATEGORIES:Community Events,Downtown Mebane Events
ORGANIZER;CN="Mebane Recreation and Parks Department":MAILTO:adavis@cityofmebane.com
END:VEVENT
END:VCALENDAR