BEGIN:VCALENDAR
VERSION:2.0
PRODID:-//City of Mebane, NC - ECPv6.15.20//NONSGML v1.0//EN
CALSCALE:GREGORIAN
METHOD:PUBLISH
X-WR-CALNAME:City of Mebane, NC
X-ORIGINAL-URL:https://positivelymebane.com
X-WR-CALDESC:Events for City of Mebane, NC
REFRESH-INTERVAL;VALUE=DURATION:PT1H
X-Robots-Tag:noindex
X-PUBLISHED-TTL:PT1H
BEGIN:VTIMEZONE
TZID:America/New_York
BEGIN:DAYLIGHT
TZOFFSETFROM:-0500
TZOFFSETTO:-0400
TZNAME:EDT
DTSTART:20220313T070000
END:DAYLIGHT
BEGIN:STANDARD
TZOFFSETFROM:-0400
TZOFFSETTO:-0500
TZNAME:EST
DTSTART:20221106T060000
END:STANDARD
BEGIN:DAYLIGHT
TZOFFSETFROM:-0500
TZOFFSETTO:-0400
TZNAME:EDT
DTSTART:20230312T070000
END:DAYLIGHT
BEGIN:STANDARD
TZOFFSETFROM:-0400
TZOFFSETTO:-0500
TZNAME:EST
DTSTART:20231105T060000
END:STANDARD
BEGIN:DAYLIGHT
TZOFFSETFROM:-0500
TZOFFSETTO:-0400
TZNAME:EDT
DTSTART:20240310T070000
END:DAYLIGHT
BEGIN:STANDARD
TZOFFSETFROM:-0400
TZOFFSETTO:-0500
TZNAME:EST
DTSTART:20241103T060000
END:STANDARD
BEGIN:DAYLIGHT
TZOFFSETFROM:-0500
TZOFFSETTO:-0400
TZNAME:EDT
DTSTART:20250309T070000
END:DAYLIGHT
BEGIN:STANDARD
TZOFFSETFROM:-0400
TZOFFSETTO:-0500
TZNAME:EST
DTSTART:20251102T060000
END:STANDARD
BEGIN:DAYLIGHT
TZOFFSETFROM:-0500
TZOFFSETTO:-0400
TZNAME:EDT
DTSTART:20260308T070000
END:DAYLIGHT
BEGIN:STANDARD
TZOFFSETFROM:-0400
TZOFFSETTO:-0500
TZNAME:EST
DTSTART:20261101T060000
END:STANDARD
END:VTIMEZONE
BEGIN:VEVENT
DTSTART;VALUE=DATE:20251127
DTEND;VALUE=DATE:20251129
DTSTAMP:20260425T115607
CREATED:20251013T213831Z
LAST-MODIFIED:20251013T213831Z
UID:10005316-1764201600-1764374399@positivelymebane.com
SUMMARY:City Offices Closed: Thanksgiving
DESCRIPTION:City offices will be closed on Thursday\, November 27\, and Friday\, November 28\, in observance of Thanksgiving. \nFor Garbage and Recycling Schedule Information\, visit the Public Works page.
URL:https://positivelymebane.com/event/city-offices-closed-thanksgiving-3
LOCATION:Mebane City Hall\, 106 E Washington St\, Mebane\, NC\, 27302\, United States
CATEGORIES:Office Closing
END:VEVENT
BEGIN:VEVENT
DTSTART;TZID=America/New_York:20251122T130000
DTEND;TZID=America/New_York:20251122T143000
DTSTAMP:20260425T115607
CREATED:20251119T173309Z
LAST-MODIFIED:20251119T173543Z
UID:10005393-1763816400-1763821800@positivelymebane.com
SUMMARY:Community Ride
DESCRIPTION: \n\n\n\n \n\n \n\n \n\n \nGet ready to ride\, Mebane! On Saturday\, November 22\, the Mebane Bicycle and Pedestrian Advisory Commission (BPAC) is hosting a kid-friendly community bike ride — and you’re invited!Meet us at Mebane City Hall at 1 p.m. for a fun\, four-mile adventure through the community. Bring your bikes\, bring your friends\, and let’s roll into the weekend together! 🚴‍♀️ ✨
URL:https://positivelymebane.com/event/community-ride
LOCATION:Mebane City Hall\, 106 E Washington St\, Mebane\, NC\, 27302\, United States
CATEGORIES:Community Events
ORGANIZER;CN="Mebane Bicycle and Pedestrian Advisory Commission (BPAC)":MAILTO:bpac@cityofmebane.com
END:VEVENT
BEGIN:VEVENT
DTSTART;VALUE=DATE:20251111
DTEND;VALUE=DATE:20251112
DTSTAMP:20260425T115607
CREATED:20251013T213402Z
LAST-MODIFIED:20251013T213442Z
UID:10005315-1762819200-1762905599@positivelymebane.com
SUMMARY:City Offices Closed: Veterans Day
DESCRIPTION:City offices will be closed on Tuesday\, November 11\, in observance of Veterans Day. \nFor Garbage and Recycling Schedule Information\, visit the Public Works page.
URL:https://positivelymebane.com/event/city-offices-closed-veterans-day-3
LOCATION:Mebane City Hall\, 106 E Washington St\, Mebane\, NC\, 27302\, United States
CATEGORIES:Office Closing
END:VEVENT
BEGIN:VEVENT
DTSTART;VALUE=DATE:20250901
DTEND;VALUE=DATE:20250902
DTSTAMP:20260425T115607
CREATED:20250805T162446Z
LAST-MODIFIED:20250805T162546Z
UID:10005264-1756684800-1756771199@positivelymebane.com
SUMMARY:City Offices Closed: Labor Day
DESCRIPTION:City offices will be closed on Monday\, September 1\, in observance of Labor Day. \nFor Garbage and Recycling Schedule information\, visit the Public Works page.
URL:https://positivelymebane.com/event/city-offices-closed-labor-day-2
LOCATION:Mebane City Hall\, 106 E Washington St\, Mebane\, NC\, 27302\, United States
CATEGORIES:Office Closing
END:VEVENT
BEGIN:VEVENT
DTSTART;VALUE=DATE:20250704
DTEND;VALUE=DATE:20250705
DTSTAMP:20260425T115607
CREATED:20250604T203739Z
LAST-MODIFIED:20250604T203926Z
UID:10005138-1751587200-1751673599@positivelymebane.com
SUMMARY:City Offices Closed: Independence Day
DESCRIPTION:City offices will be closed on Friday\, July 4\, in observance of Independence Day. \nFor information on the Garbage and Recycling Schedule\, visit the Mebane Public Works page.
URL:https://positivelymebane.com/event/city-offices-closed-independence-day-2
LOCATION:Mebane City Hall\, 106 E Washington St\, Mebane\, NC\, 27302\, United States
CATEGORIES:Office Closing
END:VEVENT
BEGIN:VEVENT
DTSTART;VALUE=DATE:20250619
DTEND;VALUE=DATE:20250620
DTSTAMP:20260425T115607
CREATED:20250604T203336Z
LAST-MODIFIED:20250604T204035Z
UID:10005137-1750291200-1750377599@positivelymebane.com
SUMMARY:City Offices Closed: Juneteenth
DESCRIPTION:City offices will be closed on Thursday\, June 19\, in observance of Juneteenth. \nFor information on the Garbage and Recycling Schedule\, visit the Mebane Public Works page.
URL:https://positivelymebane.com/event/city-offices-closed-juneteenth-3
LOCATION:Mebane City Hall\, 106 E Washington St\, Mebane\, NC\, 27302\, United States
CATEGORIES:Office Closing
END:VEVENT
BEGIN:VEVENT
DTSTART;TZID=America/New_York:20250113T183000
DTEND;TZID=America/New_York:20250113T200000
DTSTAMP:20260425T115607
CREATED:20250106T175747Z
LAST-MODIFIED:20250106T175747Z
UID:10001538-1736793000-1736798400@positivelymebane.com
SUMMARY:Planning Board Meeting
DESCRIPTION:Planning Board meeting materials can be accessed here.
URL:https://positivelymebane.com/event/planning-board-meeting-12
LOCATION:Mebane City Hall\, 106 E Washington St\, Mebane\, NC\, 27302\, United States
CATEGORIES:Planning Board Meetings
ORGANIZER;CN="Mebane Planning Board":MAILTO:planning@cityofmebane.com
END:VEVENT
BEGIN:VEVENT
DTSTART;VALUE=DATE:20241224
DTEND;VALUE=DATE:20241227
DTSTAMP:20260425T115607
CREATED:20240909T232306Z
LAST-MODIFIED:20240909T232439Z
UID:10001447-1734998400-1735257599@positivelymebane.com
SUMMARY:City Offices Closed: Christmas
DESCRIPTION:City offices will be closed on Tuesday\, December 24\, through Thursday\, December 26\, in observance of Christmas. \n \nFor information on the Garbage and Recycling Schedule\, visit the Public Works page.
URL:https://positivelymebane.com/event/city-offices-closed-christmas-2
LOCATION:Mebane City Hall\, 106 E Washington St\, Mebane\, NC\, 27302\, United States
CATEGORIES:Office Closing
END:VEVENT
BEGIN:VEVENT
DTSTART;VALUE=DATE:20241128
DTEND;VALUE=DATE:20241130
DTSTAMP:20260425T115607
CREATED:20240909T231843Z
LAST-MODIFIED:20240909T231927Z
UID:10001446-1732752000-1732924799@positivelymebane.com
SUMMARY:City Offices Closed: Thanksgiving
DESCRIPTION:City offices will be closed on Thursday\, November 28\, and Friday\, November 29\, in observance of Thanksgiving.\n\nFor information on the Garbage and Recycling Schedule\, visit the Public Works page.
URL:https://positivelymebane.com/event/city-offices-closed-thanksgiving-2
LOCATION:Mebane City Hall\, 106 E Washington St\, Mebane\, NC\, 27302\, United States
CATEGORIES:Office Closing
END:VEVENT
BEGIN:VEVENT
DTSTART;VALUE=DATE:20241118
DTEND;VALUE=DATE:20241211
DTSTAMP:20260425T115607
CREATED:20241010T154300Z
LAST-MODIFIED:20241010T154552Z
UID:10001469-1731888000-1733875199@positivelymebane.com
SUMMARY:Letters to Santa
DESCRIPTION:We want to make the holidays an exciting time for our #PositivelyCharming children in Mebane\, so we are here to help. \nThe Mebane Recreation and Parks Department has made arrangements with the elves at the North Pole to accept mail for delivery to Santa. Please have your children write a letter to Santa Claus; in a few weeks\, they will receive a letter from him in return! \nPlease be sure to include a self-addressed\, stamped envelope with the message. \nYou can drop off letters between November 18 – December 10\, 2024\, at one of the 3 Letters to Santa mailboxes located at the Mebane Arts & Community Center\, Mebane City Hall\, or the Mebane Community Park. \n \n\n \nLocation and Hours of Operation: \nMebane Arts & Community Center – 633 Corregidor Street – Monday to Friday – 8 a.m. – 5 p.m. \nMebane City Hall – 106 E. Washington Street – Monday to Friday – 8 a.m. – 5 p.m. \nMebane Community Park – 550 W. Center Street – Everyday – 5 a.m. – 11 p.m.
URL:https://positivelymebane.com/event/letters-to-santa-2
LOCATION:Mebane City Hall\, 106 E Washington St\, Mebane\, NC\, 27302\, United States
CATEGORIES:Community Events
ORGANIZER;CN="Mebane Recreation and Parks Department":MAILTO:adavis@cityofmebane.com
END:VEVENT
BEGIN:VEVENT
DTSTART;VALUE=DATE:20241111
DTEND;VALUE=DATE:20241112
DTSTAMP:20260425T115607
CREATED:20240909T234542Z
LAST-MODIFIED:20240909T234631Z
UID:10001451-1731283200-1731369599@positivelymebane.com
SUMMARY:City Offices Closed: Veteran’s Day
DESCRIPTION:City offices will be closed on Monday\, November 11\, in observance of Veteran’s Day. \nFor information on the Garbage and Recycling Schedule\, visit the Public Works page.
URL:https://positivelymebane.com/event/city-offices-closed-veterans-day-2
LOCATION:Mebane City Hall\, 106 E Washington St\, Mebane\, NC\, 27302\, United States
CATEGORIES:Office Closing
END:VEVENT
BEGIN:VEVENT
DTSTART;VALUE=DATE:20240902
DTEND;VALUE=DATE:20240903
DTSTAMP:20260425T115607
CREATED:20240805T204529Z
LAST-MODIFIED:20240805T204529Z
UID:10001441-1725235200-1725321599@positivelymebane.com
SUMMARY:City Offices Closed: Labor Day
DESCRIPTION:City offices will be closed on Monday\, September 2\, in observance of Labor Day. \nFor Garbage and Recycling Schedule information\, visit the Public Works page.
URL:https://positivelymebane.com/event/city-offices-closed-labor-day
LOCATION:Mebane City Hall\, 106 E Washington St\, Mebane\, NC\, 27302\, United States
CATEGORIES:Office Closing
END:VEVENT
BEGIN:VEVENT
DTSTART;TZID=America/New_York:20240812T183000
DTEND;TZID=America/New_York:20240812T200000
DTSTAMP:20260425T115607
CREATED:20240805T152641Z
LAST-MODIFIED:20240805T152641Z
UID:10001439-1723487400-1723492800@positivelymebane.com
SUMMARY:Planning Board Meeting
DESCRIPTION: \nPlanning Board meeting materials can be accessed here.
URL:https://positivelymebane.com/event/planning-board-meeting-9
LOCATION:Mebane City Hall\, 106 E Washington St\, Mebane\, NC\, 27302\, United States
CATEGORIES:Planning Board Meetings
ORGANIZER;CN="Mebane Planning Board":MAILTO:planning@cityofmebane.com
END:VEVENT
BEGIN:VEVENT
DTSTART;TZID=America/New_York:20240805T180000
DTEND;TZID=America/New_York:20240805T200000
DTSTAMP:20260425T115607
CREATED:20240805T152222Z
LAST-MODIFIED:20240805T152222Z
UID:10001438-1722880800-1722888000@positivelymebane.com
SUMMARY:City Council Meeting
DESCRIPTION: \nFor meeting details please view our council page.
URL:https://positivelymebane.com/event/city-council-meeting-2
LOCATION:Mebane City Hall\, 106 E Washington St\, Mebane\, NC\, 27302\, United States
CATEGORIES:City Council Meetings
END:VEVENT
BEGIN:VEVENT
DTSTART;VALUE=DATE:20240527
DTEND;VALUE=DATE:20240528
DTSTAMP:20260425T115607
CREATED:20240403T192643Z
LAST-MODIFIED:20240403T192718Z
UID:10001296-1716768000-1716854399@positivelymebane.com
SUMMARY:City Offices Closed: Memorial Day
DESCRIPTION:City offices will be closed on Monday\, May 27\, in observance of Memorial Day. \nFor Garbage and Recycling Schedule information\, visit the Public Works page.
URL:https://positivelymebane.com/event/city-offices-closed-memorial-day
LOCATION:Mebane City Hall\, 106 E Washington St\, Mebane\, NC\, 27302\, United States
CATEGORIES:Office Closing
END:VEVENT
BEGIN:VEVENT
DTSTART;TZID=America/New_York:20240329T080000
DTEND;TZID=America/New_York:20240329T170000
DTSTAMP:20260425T115607
CREATED:20240314T153359Z
LAST-MODIFIED:20240314T153615Z
UID:10001249-1711699200-1711731600@positivelymebane.com
SUMMARY:City Offices Closed: Good Friday
DESCRIPTION:City offices will be closed on Friday\, March 29th in observance of Good Friday. \nFor Garbage and Recycling Schedule information\, visit the Public Works page.
URL:https://positivelymebane.com/event/city-offices-closed-good-friday
LOCATION:Mebane City Hall\, 106 E Washington St\, Mebane\, NC\, 27302\, United States
CATEGORIES:Office Closing
END:VEVENT
BEGIN:VEVENT
DTSTART;TZID=America/New_York:20240116T183000
DTEND;TZID=America/New_York:20240116T200000
DTSTAMP:20260425T115607
CREATED:20240111T175239Z
LAST-MODIFIED:20240111T175459Z
UID:10001050-1705429800-1705435200@positivelymebane.com
SUMMARY:Planning Board Meeting
DESCRIPTION: \n\n \nPlanning Board meeting materials can be accessed here. The planning board will meet in the back conference room of the Glendel Stephenson Municipal Building.
URL:https://positivelymebane.com/event/planning-board-meeting-4
LOCATION:Mebane City Hall\, 106 E Washington St\, Mebane\, NC\, 27302\, United States
CATEGORIES:Planning Board Meetings
END:VEVENT
BEGIN:VEVENT
DTSTART;VALUE=DATE:20240101
DTEND;VALUE=DATE:20240102
DTSTAMP:20260425T115607
CREATED:20231219T213403Z
LAST-MODIFIED:20231219T213424Z
UID:10001049-1704067200-1704153599@positivelymebane.com
SUMMARY:City Offices Closed: New Year's
DESCRIPTION:City offices will be closed on Monday\, January 1\, in observance of the New Year. \n \n𝐆𝐚𝐫𝐛𝐚𝐠𝐞 𝐂𝐨𝐥𝐥𝐞𝐜𝐭𝐢𝐨𝐧 𝐒𝐜𝐡𝐞𝐝𝐮𝐥𝐞: Monday's route will be collected on Tuesday\, January 2. Tuesday's route will be collected on Wednesday\, January 3. No change to Thursday and Friday schedules. \n𝐑𝐞𝐜𝐲𝐜𝐥𝐢𝐧𝐠 𝐂𝐨𝐥𝐥𝐞𝐜𝐭𝐢𝐨𝐧: GFL Environmental\, your recycling service provider\, will be closed on New Year's Day. If your recycling collection falls on a holiday\, pickup will occur the following day.
URL:https://positivelymebane.com/event/city-offices-closed-new-years
LOCATION:Mebane City Hall\, 106 E Washington St\, Mebane\, NC\, 27302\, United States
CATEGORIES:Office Closing
END:VEVENT
BEGIN:VEVENT
DTSTART;VALUE=DATE:20231225
DTEND;VALUE=DATE:20231228
DTSTAMP:20260425T115607
CREATED:20231219T212048Z
LAST-MODIFIED:20231219T213552Z
UID:10001047-1703462400-1703721599@positivelymebane.com
SUMMARY:City Offices Closed: Christmas
DESCRIPTION:City Offices will be closed on Monday\, December 25th\, Tuesday\, December 26th\, and Wednesday\, December 27th in observance of Christmas. \n𝐆𝐚𝐫𝐛𝐚𝐠𝐞 𝐂𝐨𝐥𝐥𝐞𝐜𝐭𝐢𝐨𝐧 𝐒𝐜𝐡𝐞𝐝𝐮𝐥𝐞: Garbage collection will operate on Wednesday\, December 27th. Monday and Tuesday’s garbage routes will be collected on Wednesday\, December 27th.  There are no changes to Thursday and Fridays garbage routes. There will be limited bulk and brush material collected during this week. \nGFL Environmental will be closed on Christmas day\, Monday\, December 25th.  Monday’s recycling route will be collected on Tuesday\, December 26th.
URL:https://positivelymebane.com/event/city-offices-closed-christmas
LOCATION:Mebane City Hall\, 106 E Washington St\, Mebane\, NC\, 27302\, United States
CATEGORIES:Office Closing
END:VEVENT
BEGIN:VEVENT
DTSTART;TZID=America/New_York:20231113T183000
DTEND;TZID=America/New_York:20231113T200000
DTSTAMP:20260425T115607
CREATED:20231107T230608Z
LAST-MODIFIED:20231107T230608Z
UID:10001019-1699900200-1699905600@positivelymebane.com
SUMMARY:Planning Board Meeting
DESCRIPTION:Planning Board meeting materials can be accessed here.
URL:https://positivelymebane.com/event/planning-board-meeting-3
LOCATION:Mebane City Hall\, 106 E Washington St\, Mebane\, NC\, 27302\, United States
CATEGORIES:Planning Board Meetings
ORGANIZER;CN="Mebane Planning Board":MAILTO:planning@cityofmebane.com
END:VEVENT
BEGIN:VEVENT
DTSTART;VALUE=DATE:20231110
DTEND;VALUE=DATE:20231111
DTSTAMP:20260425T115607
CREATED:20231023T194848Z
LAST-MODIFIED:20231023T195004Z
UID:10001015-1699574400-1699660799@positivelymebane.com
SUMMARY:City Offices Closed: Veteran’s Day
DESCRIPTION:City offices will be closed on Friday\, November 10th in observance of Veteran’s Day. \nThursday’s garbage route will be collected on Wednesday\, November 8th. Friday’s route will be collected on Thursday\, November 9th.  There are no changes to Monday and Tuesday’s routes. \nThere are no changes to the recycling schedule.
URL:https://positivelymebane.com/event/city-offices-closed-veterans-day
LOCATION:Mebane City Hall\, 106 E Washington St\, Mebane\, NC\, 27302\, United States
CATEGORIES:Office Closing
END:VEVENT
BEGIN:VEVENT
DTSTART;VALUE=DATE:20230704
DTEND;VALUE=DATE:20230705
DTSTAMP:20260425T115607
CREATED:20230608T145847Z
LAST-MODIFIED:20230608T145847Z
UID:10000573-1688428800-1688515199@positivelymebane.com
SUMMARY:City Offices Closed- Independence Day
DESCRIPTION:City offices will be closed on Tuesday\, July 4\, 2023 in observance of Independence Day. \nTuesday’s garbage route will be collected on Wednesday\, July 5th. There will be no changes to Monday\, Thursday and Friday’s schedules. \nThere are no changes to the recycling collection schedule.
URL:https://positivelymebane.com/event/city-offices-closed-independence-day
LOCATION:Mebane City Hall\, 106 E Washington St\, Mebane\, NC\, 27302\, United States
END:VEVENT
BEGIN:VEVENT
DTSTART;VALUE=DATE:20230619
DTEND;VALUE=DATE:20230620
DTSTAMP:20260425T115607
CREATED:20230608T145349Z
LAST-MODIFIED:20230608T145349Z
UID:10000572-1687132800-1687219199@positivelymebane.com
SUMMARY:City Offices Closed: Juneteenth
DESCRIPTION:City offices will be closed on Monday\, June 19\, 2023\, in observance of Juneteenth.\n\nMonday’s garbage route will be collected on Tuesday\, June 20th. Tuesday’s route will be collected on Wednesday\, June 21st. There will be no changes to Thursday and Friday’s route schedules.\n\nThere are no changes to the recycling collection schedule.
URL:https://positivelymebane.com/event/city-offices-closed-juneteenth
LOCATION:Mebane City Hall\, 106 E Washington St\, Mebane\, NC\, 27302\, United States
END:VEVENT
END:VCALENDAR