BEGIN:VCALENDAR
VERSION:2.0
PRODID:-//City of Mebane, NC - ECPv6.15.20//NONSGML v1.0//EN
CALSCALE:GREGORIAN
METHOD:PUBLISH
X-WR-CALNAME:City of Mebane, NC
X-ORIGINAL-URL:https://positivelymebane.com
X-WR-CALDESC:Events for City of Mebane, NC
REFRESH-INTERVAL;VALUE=DURATION:PT1H
X-Robots-Tag:noindex
X-PUBLISHED-TTL:PT1H
BEGIN:VTIMEZONE
TZID:America/New_York
BEGIN:DAYLIGHT
TZOFFSETFROM:-0500
TZOFFSETTO:-0400
TZNAME:EDT
DTSTART:20240310T070000
END:DAYLIGHT
BEGIN:STANDARD
TZOFFSETFROM:-0400
TZOFFSETTO:-0500
TZNAME:EST
DTSTART:20241103T060000
END:STANDARD
BEGIN:DAYLIGHT
TZOFFSETFROM:-0500
TZOFFSETTO:-0400
TZNAME:EDT
DTSTART:20250309T070000
END:DAYLIGHT
BEGIN:STANDARD
TZOFFSETFROM:-0400
TZOFFSETTO:-0500
TZNAME:EST
DTSTART:20251102T060000
END:STANDARD
BEGIN:DAYLIGHT
TZOFFSETFROM:-0500
TZOFFSETTO:-0400
TZNAME:EDT
DTSTART:20260308T070000
END:DAYLIGHT
BEGIN:STANDARD
TZOFFSETFROM:-0400
TZOFFSETTO:-0500
TZNAME:EST
DTSTART:20261101T060000
END:STANDARD
END:VTIMEZONE
BEGIN:VEVENT
DTSTART;TZID=America/New_York:20250805T180000
DTEND;TZID=America/New_York:20250805T200000
DTSTAMP:20260423T175427
CREATED:20250805T150301Z
LAST-MODIFIED:20250805T162026Z
UID:10005263-1754416800-1754424000@positivelymebane.com
SUMMARY:National Night Out 2025
DESCRIPTION:𝐍𝐚𝐭𝐢𝐨𝐧𝐚𝐥 𝐍𝐢𝐠𝐡𝐭 𝐎𝐮𝐭 𝟐𝟎𝟐𝟓 is almost here!\n\n\n\n\n\n\n\n\n\n\nJoin the Mebane Police Department on Tuesday\, August 5\, from 6 to 8 p.m. at one of six locations across Mebane for an evening of community fun\, connection\, and safety awareness. National Night Out (NNO) is an annual community-building campaign that promotes police-community partnerships and neighborhood camaraderie to make our neighborhoods safer\, more caring places to live. NNO enhances the relationship between neighbors and law enforcement while bringing back a true sense of community.
URL:https://positivelymebane.com/event/national-night-out-2025
LOCATION:Cone Health MedCenter Mebane\, 3940 Arrowhead Blvd.\, Mebane\, NC\, 27302\, United States
CATEGORIES:Community Events
END:VEVENT
END:VCALENDAR